BEGIN:VCALENDAR
VERSION:2.0
PRODID:-//Women’s Brain Health Initiative - ECPv6.15.18//NONSGML v1.0//EN
CALSCALE:GREGORIAN
METHOD:PUBLISH
X-WR-CALNAME:Women’s Brain Health Initiative
X-ORIGINAL-URL:https://womensbrainhealth.com
X-WR-CALDESC:Events for Women’s Brain Health Initiative
REFRESH-INTERVAL;VALUE=DURATION:PT1H
X-Robots-Tag:noindex
X-PUBLISHED-TTL:PT1H
BEGIN:VTIMEZONE
TZID:America/Toronto
BEGIN:DAYLIGHT
TZOFFSETFROM:-0500
TZOFFSETTO:-0400
TZNAME:EDT
DTSTART:20230312T070000
END:DAYLIGHT
BEGIN:STANDARD
TZOFFSETFROM:-0400
TZOFFSETTO:-0500
TZNAME:EST
DTSTART:20231105T060000
END:STANDARD
BEGIN:DAYLIGHT
TZOFFSETFROM:-0500
TZOFFSETTO:-0400
TZNAME:EDT
DTSTART:20240310T070000
END:DAYLIGHT
BEGIN:STANDARD
TZOFFSETFROM:-0400
TZOFFSETTO:-0500
TZNAME:EST
DTSTART:20241103T060000
END:STANDARD
BEGIN:DAYLIGHT
TZOFFSETFROM:-0500
TZOFFSETTO:-0400
TZNAME:EDT
DTSTART:20250309T070000
END:DAYLIGHT
BEGIN:STANDARD
TZOFFSETFROM:-0400
TZOFFSETTO:-0500
TZNAME:EST
DTSTART:20251102T060000
END:STANDARD
END:VTIMEZONE
BEGIN:VEVENT
DTSTART;TZID=America/Toronto:20240411T180000
DTEND;TZID=America/Toronto:20240411T210000
DTSTAMP:20260422T013835
CREATED:20240212T064738Z
LAST-MODIFIED:20240214T071513Z
UID:50935-1712858400-1712869200@womensbrainhealth.com
SUMMARY:At Your Side
DESCRIPTION:At Your Side\nHosted by Women’s Brain Health Initiative \n\nApril 11th\, 20246:00-9:00 pm\n\nCIBC Square81 Bay StToronto\n\n\n\nUnlocking Wisdom: Heartfelt and Candid Insights from Caregiving Experts \n\n\nJoin us for a cockatil reception and an engaging panel discussion\, where caregiving experts\, from providers to recipients\, come together to share their insights. Remember\, you are not alone in this journey. \nYou’ll meet the selfless professional caregiver\, the unwavering family caregiver\, and the brave individual receiving care. Their tales of resilience\, sacrifice\, and steadfast devotion will leave an indelible mark. \nYou will gain profound insights into the ever-evolving caregiving landscape\, explore pressing challenges and innovative solutions\, gaining a deeper insight into the realities of caregiving including your emotional and financial readiness. \n\n\nApril 11th\, 2024 | 6:00 – 9:00 pm \nCIBC Square | 81 Bay St | 6th Floor | Toronto \nUnderground parking is available under CIBC Square off Bay St. \n\n\n\nTickets $45 Per Person \nRegister Today\n\n\n \nLimited Seating | Business Casual \nwbhi.org  |  Charitable # 80099 3206 RR0001
URL:https://womensbrainhealth.com/event/at-your-side/
LOCATION:CIBC Square\, 81 Bay St\, Toronto\, Ontario\, Canada
CATEGORIES:General
ATTACH;FMTTYPE=image/jpeg:https://womensbrainhealth.com/wp-content/uploads/2024/02/At-Your-Side-thumbnail.jpg
END:VEVENT
END:VCALENDAR