BEGIN:VCALENDAR
VERSION:2.0
PRODID:-//Women’s Brain Health Initiative - ECPv6.15.18//NONSGML v1.0//EN
CALSCALE:GREGORIAN
METHOD:PUBLISH
X-WR-CALNAME:Women’s Brain Health Initiative
X-ORIGINAL-URL:https://womensbrainhealth.com
X-WR-CALDESC:Events for Women’s Brain Health Initiative
REFRESH-INTERVAL;VALUE=DURATION:PT1H
X-Robots-Tag:noindex
X-PUBLISHED-TTL:PT1H
BEGIN:VTIMEZONE
TZID:America/Toronto
BEGIN:DAYLIGHT
TZOFFSETFROM:-0500
TZOFFSETTO:-0400
TZNAME:EDT
DTSTART:20160313T070000
END:DAYLIGHT
BEGIN:STANDARD
TZOFFSETFROM:-0400
TZOFFSETTO:-0500
TZNAME:EST
DTSTART:20161106T060000
END:STANDARD
BEGIN:DAYLIGHT
TZOFFSETFROM:-0500
TZOFFSETTO:-0400
TZNAME:EDT
DTSTART:20170312T070000
END:DAYLIGHT
BEGIN:STANDARD
TZOFFSETFROM:-0400
TZOFFSETTO:-0500
TZNAME:EST
DTSTART:20171105T060000
END:STANDARD
BEGIN:DAYLIGHT
TZOFFSETFROM:-0500
TZOFFSETTO:-0400
TZNAME:EDT
DTSTART:20180311T070000
END:DAYLIGHT
BEGIN:STANDARD
TZOFFSETFROM:-0400
TZOFFSETTO:-0500
TZNAME:EST
DTSTART:20181104T060000
END:STANDARD
END:VTIMEZONE
BEGIN:VEVENT
DTSTART;TZID=America/Toronto:20170207T183000
DTEND;TZID=America/Toronto:20170207T203000
DTSTAMP:20260422T034354
CREATED:20161020T202358Z
LAST-MODIFIED:20161024T153831Z
UID:26508-1486492200-1486499400@womensbrainhealth.com
SUMMARY:Sleeping Your Way to the Top –  The Importance of Being Well  Rested While Building Your Career
DESCRIPTION:WITH SPECIAL GUEST: \nDR. NASREEN KHATRI\, REGISTERED CLINICAL PSYCHOLOGIST AND RESEARCHER AT BAYCREST’S ROTMAN RESEARCH INSTITUTE \nRest well. We grow and repair cells at a faster rate while sleeping and neurons in the brain reconnect or make new connections\, which\nconsolidates memory and improves focus. Sleep helps clean our brains of “garbage”\, energizes you\, and improves your mood and immune system. \nTickets: $35 | MEMBERS* $25 \nBUY TICKETS\n* Membership has its privileges! Find out more
URL:https://womensbrainhealth.com/event/sleeping-your-way-to-the-top/
LOCATION:Soho House\, Toronto\, Ontario\, Canada
CATEGORIES:Millennial Minds
ATTACH;FMTTYPE=image/jpeg:https://womensbrainhealth.com/wp-content/uploads/2016/10/mm-event-sleep-to-top-thumb.jpg
END:VEVENT
END:VCALENDAR