BEGIN:VCALENDAR
VERSION:2.0
PRODID:-//Women’s Brain Health Initiative - ECPv6.15.18//NONSGML v1.0//EN
CALSCALE:GREGORIAN
METHOD:PUBLISH
X-ORIGINAL-URL:https://womensbrainhealth.com
X-WR-CALDESC:Events for Women’s Brain Health Initiative
REFRESH-INTERVAL;VALUE=DURATION:PT1H
X-Robots-Tag:noindex
X-PUBLISHED-TTL:PT1H
BEGIN:VTIMEZONE
TZID:America/Toronto
BEGIN:DAYLIGHT
TZOFFSETFROM:-0500
TZOFFSETTO:-0400
TZNAME:EDT
DTSTART:20160313T070000
END:DAYLIGHT
BEGIN:STANDARD
TZOFFSETFROM:-0400
TZOFFSETTO:-0500
TZNAME:EST
DTSTART:20161106T060000
END:STANDARD
BEGIN:DAYLIGHT
TZOFFSETFROM:-0500
TZOFFSETTO:-0400
TZNAME:EDT
DTSTART:20170312T070000
END:DAYLIGHT
BEGIN:STANDARD
TZOFFSETFROM:-0400
TZOFFSETTO:-0500
TZNAME:EST
DTSTART:20171105T060000
END:STANDARD
BEGIN:DAYLIGHT
TZOFFSETFROM:-0500
TZOFFSETTO:-0400
TZNAME:EDT
DTSTART:20180311T070000
END:DAYLIGHT
BEGIN:STANDARD
TZOFFSETFROM:-0400
TZOFFSETTO:-0500
TZNAME:EST
DTSTART:20181104T060000
END:STANDARD
END:VTIMEZONE
BEGIN:VEVENT
DTSTART;TZID=America/Toronto:20170418T180000
DTEND;TZID=America/Toronto:20170418T210000
DTSTAMP:20260422T010843
CREATED:20170411T161204Z
LAST-MODIFIED:20170411T170608Z
UID:27533-1492538400-1492549200@womensbrainhealth.com
SUMMARY:UP IN SMOKE - Marijuana: The Good\, The Bad\, & The Uncertain
DESCRIPTION:UP IN SMOKE\nMarijuana: The Good\, The Bad\, & The Uncertain\nJoin us for an enlightening panel discussion on the implications of legalizing marijuana.\nListen to the experts describe the medical\, legal\, investor\, political and business perspectives. \nWITH EMCEE:\n\nWill Stewart\nManaging Principal at Navigator \nGUEST SPEAKERS:\n\nShelley Brown\nEmployment Lawyer\,\nSteinberg Title Hope & Israel LLP \n  \n\nAlan Gertner\nCEO\, Tokyo Smoke \n  \n\nAlison Gordon\nVP\, Business Strategy\,\nMarketing & Communications\, Delshen Therapeutics \n  \n\nMatei Olaru\nCEO\, Lift \n  \n\nAaron Salz\nCEO Stoic Advisory \n  \n\nDr. Mark Ware\nClinical Research Director\,\nAlan Edwards Pain Management Unit and\nCannabis Researcher\, McGill University \n Enjoy cocktails and light fare.\nTickets: General Admission: $60 | Group Rate: $50 ea. \nBUY TICKETS\n\nThis event is free to Millennial Members.\nMembers\, please call 416-927-2011 to reserve your seat!\nMembership information available at\nhttp://womensbrainhealth.com/millenial-minds \nPROCEEDS SUPPORT:\n \nCharitable No. 80099 3206 RR0001\n*Charitable receipt issued for maximum allowable by law. \nGENEROUSLY SPONSORED BY:\n         
URL:https://womensbrainhealth.com/event/up-in-smoke-marijuana-the-good-the-bad-the-uncertain/
LOCATION:Navigator Ltd.\, 121 King St. W\, Suite 1810\, Toronto\, Ontario\, M5H 3T9\, Canada
CATEGORIES:Millennial Minds
ATTACH;FMTTYPE=image/jpeg:https://womensbrainhealth.com/wp-content/uploads/2017/04/up-in-smoke-event.jpg
END:VEVENT
END:VCALENDAR