BEGIN:VCALENDAR
VERSION:2.0
PRODID:-//Women’s Brain Health Initiative - ECPv6.15.18//NONSGML v1.0//EN
CALSCALE:GREGORIAN
METHOD:PUBLISH
X-WR-CALNAME:Women’s Brain Health Initiative
X-ORIGINAL-URL:https://womensbrainhealth.com
X-WR-CALDESC:Events for Women’s Brain Health Initiative
REFRESH-INTERVAL;VALUE=DURATION:PT1H
X-Robots-Tag:noindex
X-PUBLISHED-TTL:PT1H
BEGIN:VTIMEZONE
TZID:America/Toronto
BEGIN:DAYLIGHT
TZOFFSETFROM:-0500
TZOFFSETTO:-0400
TZNAME:EDT
DTSTART:20170312T070000
END:DAYLIGHT
BEGIN:STANDARD
TZOFFSETFROM:-0400
TZOFFSETTO:-0500
TZNAME:EST
DTSTART:20171105T060000
END:STANDARD
BEGIN:DAYLIGHT
TZOFFSETFROM:-0500
TZOFFSETTO:-0400
TZNAME:EDT
DTSTART:20180311T070000
END:DAYLIGHT
BEGIN:STANDARD
TZOFFSETFROM:-0400
TZOFFSETTO:-0500
TZNAME:EST
DTSTART:20181104T060000
END:STANDARD
BEGIN:DAYLIGHT
TZOFFSETFROM:-0500
TZOFFSETTO:-0400
TZNAME:EDT
DTSTART:20190310T070000
END:DAYLIGHT
BEGIN:STANDARD
TZOFFSETFROM:-0400
TZOFFSETTO:-0500
TZNAME:EST
DTSTART:20191103T060000
END:STANDARD
END:VTIMEZONE
BEGIN:VEVENT
DTSTART;TZID=America/Toronto:20180131T183000
DTEND;TZID=America/Toronto:20180131T203000
DTSTAMP:20260421T113044
CREATED:20171031T210337Z
LAST-MODIFIED:20180113T065420Z
UID:31706-1517423400-1517430600@womensbrainhealth.com
SUMMARY:Engaging Millennial Minds: Traumatic Brain Injury (TBI) – Know It When It Happens
DESCRIPTION:PRESENTS \nENGAGING MILLENNIAL MINDS\n— \nTraumatic Brain Injury (TBI)KNOW IT WHEN IT HAPPENS\n\nResearch is increasingly showing that a blow to the head triggers biological processes in the brain that burn away in the background for years. TBI is an alteration in brain function\, or other evidence of brain pathology caused by an external force. It is caused by a bump\, blow\, or jolt to the head or by a hit to the body that causes the head and brain to move back and forth rapidly. \nA concussion\, which is the most common form of TBI\, may or may not involve a loss of consciousness. You do not have to black out\, or be knocked out\, to experience a concussion. Concussion may result in an altered mental status that affects cognitive (e.g. thinking\, memory\, learning) and physical performance. Symptoms after concussion usually resolve within weeks. But head injuries may lead to the development of dementia many years later. \nDespite so much attention on male athletes\, women account for approximately a third of traumatic brain injuries. Women suffer more concussions than men in the sports that both play\, with an injury rate 50 percent higher. Yet female concussion is vastly understudied. \nFind out more about TBI and hear first-hand from trampoline Olympic gold medalist Rosie MacLennan about her experience with concussion and what she fears most. \nEnjoy light refreshments\, and a chance to win fabulous door prizes. \n \nEMCEELaura BestPhD Medical Science Candidate at University of Toronto\,Centre for Addiction and Mental Health \nSPECIAL GUEST SPEAKERS \n\n\n \nDr. Carmela TartagliaNeurologist\, Memory Clinic\, Krembil Neuroscience Centre\,Associate Professor\, University of Toronto \n\n\n \nRosie MacLennanOlympic Gold Medalist \n\n\n \nJulia HamerNeuroscience Researcher\, St. Michael’s Hospital \n\n\n\nTICKETS \nGeneral Admission $35Millennial Minds Member $25Membership has its privileges! To become a Millennial Minds Member\, please visit Millennial Minds \nTo Purchase Tickets Please click the button \nBUY TICKETS\nWITH GENEROUS SUPPORT BY
URL:https://womensbrainhealth.com/event/engaging-millennial-minds-traumatic-brain-injury-tbi-know-it-when-it-happens/
LOCATION:Li Ka Shing Knowledge Institute (St. Michael’s Hospital)\, 209 Victoria St\, Toronto\, Ontario\, M5B 1T8\, Canada
CATEGORIES:Millennial Minds
ATTACH;FMTTYPE=image/jpeg:https://womensbrainhealth.com/wp-content/uploads/2017/10/EMM-Series-2-Event-3.jpg
END:VEVENT
END:VCALENDAR